BEGIN:VCALENDAR
VERSION:2.0
PRODID:icalendar-ruby
CALSCALE:GREGORIAN
METHOD:PUBLISH
BEGIN:VEVENT
DTSTAMP:20260419T145134Z
UID:10-555874@shilohtemplepraise.org
DTSTART:20250112T150000Z
DTEND:20250112T160000Z
CLASS:PUBLIC
CREATED:20260419T080233
DESCRIPTION:Sunday School
LAST-MODIFIED:20260419T080233
LOCATION:Shiloh Temple of Praise
SUMMARY:Sunday School
URL;VALUE=URI:https://www.shilohtemplepraise.org/events/sunday-school/2025-
 01-12
END:VEVENT
END:VCALENDAR
