BEGIN:VCALENDAR
VERSION:2.0
PRODID:icalendar-ruby
CALSCALE:GREGORIAN
METHOD:PUBLISH
BEGIN:VEVENT
DTSTAMP:20260419T162823Z
UID:10-556387@shilohtemplepraise.org
DTSTART:20250119T150000Z
DTEND:20250119T160000Z
CLASS:PUBLIC
CREATED:20260419T114447
DESCRIPTION:Sunday School
LAST-MODIFIED:20260419T114447
LOCATION:Shiloh Temple of Praise
SUMMARY:Sunday School
URL;VALUE=URI:https://www.shilohtemplepraise.org/events/sunday-school/2025-
 01-19
END:VEVENT
END:VCALENDAR
