BEGIN:VCALENDAR
VERSION:2.0
PRODID:icalendar-ruby
CALSCALE:GREGORIAN
METHOD:PUBLISH
BEGIN:VEVENT
DTSTAMP:20260419T175247Z
UID:10-556388@shilohtemplepraise.org
DTSTART:20250126T150000Z
DTEND:20250126T160000Z
CLASS:PUBLIC
CREATED:20260419T114447
DESCRIPTION:Sunday School
LAST-MODIFIED:20260419T114447
LOCATION:Shiloh Temple of Praise
SUMMARY:Sunday School
URL;VALUE=URI:https://www.shilohtemplepraise.org/events/sunday-school/2025-
 01-26
END:VEVENT
END:VCALENDAR
