BEGIN:VCALENDAR
VERSION:2.0
PRODID:icalendar-ruby
CALSCALE:GREGORIAN
METHOD:PUBLISH
BEGIN:VEVENT
DTSTAMP:20260419T205803Z
UID:10-556903@shilohtemplepraise.org
DTSTART:20250209T150000Z
DTEND:20250209T160000Z
CLASS:PUBLIC
CREATED:20260419T152712
DESCRIPTION:Sunday School
LAST-MODIFIED:20260419T152712
LOCATION:Shiloh Temple of Praise
SUMMARY:Sunday School
URL;VALUE=URI:https://www.shilohtemplepraise.org/events/sunday-school/2025-
 02-09
END:VEVENT
END:VCALENDAR
