BEGIN:VCALENDAR
VERSION:2.0
PRODID:icalendar-ruby
CALSCALE:GREGORIAN
METHOD:PUBLISH
BEGIN:VEVENT
DTSTAMP:20260419T222952Z
UID:10-556904@shilohtemplepraise.org
DTSTART:20250216T150000Z
DTEND:20250216T160000Z
CLASS:PUBLIC
CREATED:20260419T152712
DESCRIPTION:Sunday School
LAST-MODIFIED:20260419T152712
LOCATION:Shiloh Temple of Praise
SUMMARY:Sunday School
URL;VALUE=URI:https://www.shilohtemplepraise.org/events/sunday-school/2025-
 02-16
END:VEVENT
END:VCALENDAR
