BEGIN:VCALENDAR
VERSION:2.0
PRODID:icalendar-ruby
CALSCALE:GREGORIAN
METHOD:PUBLISH
BEGIN:VEVENT
DTSTAMP:20260419T235555Z
UID:10-557419@shilohtemplepraise.org
DTSTART:20250223T150000Z
DTEND:20250223T160000Z
CLASS:PUBLIC
CREATED:20260419T191002
DESCRIPTION:Sunday School
LAST-MODIFIED:20260419T191002
LOCATION:Shiloh Temple of Praise
SUMMARY:Sunday School
URL;VALUE=URI:https://www.shilohtemplepraise.org/events/sunday-school/2025-
 02-23
END:VEVENT
END:VCALENDAR
