BEGIN:VCALENDAR
VERSION:2.0
PRODID:icalendar-ruby
CALSCALE:GREGORIAN
METHOD:PUBLISH
BEGIN:VEVENT
DTSTAMP:20260420T014903Z
UID:10-557420@shilohtemplepraise.org
DTSTART:20250302T150000Z
DTEND:20250302T160000Z
CLASS:PUBLIC
CREATED:20260419T191002
DESCRIPTION:Sunday School
LAST-MODIFIED:20260419T191002
LOCATION:Shiloh Temple of Praise
SUMMARY:Sunday School
URL;VALUE=URI:https://www.shilohtemplepraise.org/events/sunday-school/2025-
 03-02
END:VEVENT
END:VCALENDAR
