BEGIN:VCALENDAR
VERSION:2.0
PRODID:icalendar-ruby
CALSCALE:GREGORIAN
METHOD:PUBLISH
BEGIN:VEVENT
DTSTAMP:20260420T033307Z
UID:10-557935@shilohtemplepraise.org
DTSTART:20250309T140000Z
DTEND:20250309T150000Z
CLASS:PUBLIC
CREATED:20260419T224858
DESCRIPTION:Sunday School
LAST-MODIFIED:20260419T224858
LOCATION:Shiloh Temple of Praise
SUMMARY:Sunday School
URL;VALUE=URI:https://www.shilohtemplepraise.org/events/sunday-school/2025-
 03-09
END:VEVENT
END:VCALENDAR
