BEGIN:VCALENDAR
VERSION:2.0
PRODID:icalendar-ruby
CALSCALE:GREGORIAN
METHOD:PUBLISH
BEGIN:VEVENT
DTSTAMP:20260420T070258Z
UID:10-558451@shilohtemplepraise.org
DTSTART:20250323T140000Z
DTEND:20250323T150000Z
CLASS:PUBLIC
CREATED:20260420T022551
DESCRIPTION:Sunday School
LAST-MODIFIED:20260420T022551
LOCATION:Shiloh Temple of Praise
SUMMARY:Sunday School
URL;VALUE=URI:https://www.shilohtemplepraise.org/events/sunday-school/2025-
 03-23
END:VEVENT
END:VCALENDAR
