BEGIN:VCALENDAR
VERSION:2.0
PRODID:icalendar-ruby
CALSCALE:GREGORIAN
METHOD:PUBLISH
BEGIN:VEVENT
DTSTAMP:20260422T101709Z
UID:10-564621@shilohtemplepraise.org
DTSTART:20250406T140000Z
DTEND:20250406T150000Z
CLASS:PUBLIC
CREATED:20260421T203331
DESCRIPTION:Sunday School
LAST-MODIFIED:20260421T203331
LOCATION:Shiloh Temple of Praise
SUMMARY:Sunday School
URL;VALUE=URI:https://www.shilohtemplepraise.org/events/sunday-school/2025-
 04-06
END:VEVENT
END:VCALENDAR
