BEGIN:VCALENDAR
VERSION:2.0
PRODID:icalendar-ruby
CALSCALE:GREGORIAN
METHOD:PUBLISH
BEGIN:VEVENT
DTSTAMP:20260422T115339Z
UID:10-565136@shilohtemplepraise.org
DTSTART:20250413T140000Z
DTEND:20250413T150000Z
CLASS:PUBLIC
CREATED:20260422T073548
DESCRIPTION:Sunday School
LAST-MODIFIED:20260422T073548
LOCATION:Shiloh Temple of Praise
SUMMARY:Sunday School
URL;VALUE=URI:https://www.shilohtemplepraise.org/events/sunday-school/2025-
 04-13
END:VEVENT
END:VCALENDAR
