BEGIN:VCALENDAR
VERSION:2.0
PRODID:icalendar-ruby
CALSCALE:GREGORIAN
METHOD:PUBLISH
BEGIN:VEVENT
DTSTAMP:20260422T134029Z
UID:10-565137@shilohtemplepraise.org
DTSTART:20250420T140000Z
DTEND:20250420T150000Z
CLASS:PUBLIC
CREATED:20260422T073548
DESCRIPTION:Sunday School
LAST-MODIFIED:20260422T073548
LOCATION:Shiloh Temple of Praise
SUMMARY:Sunday School
URL;VALUE=URI:https://www.shilohtemplepraise.org/events/sunday-school/2025-
 04-20
END:VEVENT
END:VCALENDAR
