BEGIN:VCALENDAR
VERSION:2.0
PRODID:icalendar-ruby
CALSCALE:GREGORIAN
METHOD:PUBLISH
BEGIN:VEVENT
DTSTAMP:20260422T152240Z
UID:10-565652@shilohtemplepraise.org
DTSTART:20250427T140000Z
DTEND:20250427T150000Z
CLASS:PUBLIC
CREATED:20260422T103039
DESCRIPTION:Sunday School
LAST-MODIFIED:20260422T103039
LOCATION:Shiloh Temple of Praise
SUMMARY:Sunday School
URL;VALUE=URI:https://www.shilohtemplepraise.org/events/sunday-school/2025-
 04-27
END:VEVENT
END:VCALENDAR
