BEGIN:VCALENDAR
VERSION:2.0
PRODID:icalendar-ruby
CALSCALE:GREGORIAN
METHOD:PUBLISH
BEGIN:VEVENT
DTSTAMP:20260424T053328Z
UID:10-570824@shilohtemplepraise.org
DTSTART:20251026T140000Z
DTEND:20251026T150000Z
CLASS:PUBLIC
CREATED:20260423T220845
DESCRIPTION:Sunday School
LAST-MODIFIED:20260423T220845
LOCATION:Shiloh Temple of Praise
SUMMARY:Sunday School
URL;VALUE=URI:https://www.shilohtemplepraise.org/events/sunday-school/2025-
 10-26
END:VEVENT
END:VCALENDAR
